BEGIN:VCALENDAR
VERSION:2.0
PRODID:-//Evangelischer Schulverein Görlitz e.V. - ECPv6.15.20//NONSGML v1.0//EN
CALSCALE:GREGORIAN
METHOD:PUBLISH
X-WR-CALNAME:Evangelischer Schulverein Görlitz e.V.
X-ORIGINAL-URL:https://www.ev-schule.de
X-WR-CALDESC:Veranstaltungen für Evangelischer Schulverein Görlitz e.V.
REFRESH-INTERVAL;VALUE=DURATION:PT1H
X-Robots-Tag:noindex
X-PUBLISHED-TTL:PT1H
BEGIN:VTIMEZONE
TZID:Europe/Paris
BEGIN:DAYLIGHT
TZOFFSETFROM:+0100
TZOFFSETTO:+0200
TZNAME:CEST
DTSTART:20250330T010000
END:DAYLIGHT
BEGIN:STANDARD
TZOFFSETFROM:+0200
TZOFFSETTO:+0100
TZNAME:CET
DTSTART:20251026T010000
END:STANDARD
BEGIN:DAYLIGHT
TZOFFSETFROM:+0100
TZOFFSETTO:+0200
TZNAME:CEST
DTSTART:20260329T010000
END:DAYLIGHT
BEGIN:STANDARD
TZOFFSETFROM:+0200
TZOFFSETTO:+0100
TZNAME:CET
DTSTART:20261025T010000
END:STANDARD
BEGIN:DAYLIGHT
TZOFFSETFROM:+0100
TZOFFSETTO:+0200
TZNAME:CEST
DTSTART:20270328T010000
END:DAYLIGHT
BEGIN:STANDARD
TZOFFSETFROM:+0200
TZOFFSETTO:+0100
TZNAME:CET
DTSTART:20271031T010000
END:STANDARD
END:VTIMEZONE
BEGIN:VEVENT
DTSTART;TZID=Europe/Paris:20260202T074500
DTEND;TZID=Europe/Paris:20260202T120000
DTSTAMP:20260422T105051
CREATED:20260128T091135Z
LAST-MODIFIED:20260128T091135Z
UID:16076-1770018300-1770033600@www.ev-schule.de
SUMMARY:Osterprojekt "Pilgern"
DESCRIPTION:kein Förderunterricht\, jedoch anschließend Mittagsbetreuung
URL:https://www.ev-schule.de/termin/osterprojekt-pilgern/
END:VEVENT
BEGIN:VEVENT
DTSTART;VALUE=DATE:20260203
DTEND;VALUE=DATE:20260204
DTSTAMP:20260422T105051
CREATED:20250930T055507Z
LAST-MODIFIED:20250930T055507Z
UID:15353-1770076800-1770163199@www.ev-schule.de
SUMMARY:Verkleidungsfest klassenintern an der Grundschule
DESCRIPTION:
URL:https://www.ev-schule.de/termin/verkleidungsfest-klassenintern-an-der-grundschule/
CATEGORIES:Grundschule
END:VEVENT
BEGIN:VEVENT
DTSTART;TZID=Europe/Paris:20260205T100000
DTEND;TZID=Europe/Paris:20260205T130000
DTSTAMP:20260422T105051
CREATED:20260128T085854Z
LAST-MODIFIED:20260128T085854Z
UID:16070-1770285600-1770296400@www.ev-schule.de
SUMMARY:3. Klasse Projekt im Naturkundemuseum
DESCRIPTION:
URL:https://www.ev-schule.de/termin/3-klasse-projekt-im-naturkundemuseum/
END:VEVENT
BEGIN:VEVENT
DTSTART;VALUE=DATE:20260206
DTEND;VALUE=DATE:20260207
DTSTAMP:20260422T105051
CREATED:20250930T055732Z
LAST-MODIFIED:20250930T055732Z
UID:15355-1770336000-1770422399@www.ev-schule.de
SUMMARY:Ausgabe der Halbjahresinformationen
DESCRIPTION:
URL:https://www.ev-schule.de/termin/ausgabe-der-halbjahresinformationen/
CATEGORIES:Grundschule
END:VEVENT
BEGIN:VEVENT
DTSTART;VALUE=DATE:20260206
DTEND;VALUE=DATE:20260207
DTSTAMP:20260422T105051
CREATED:20250930T055844Z
LAST-MODIFIED:20250930T055844Z
UID:15357-1770336000-1770422399@www.ev-schule.de
SUMMARY:Klasse 4: Ausgabe der Bildungsempfehlungen
DESCRIPTION:
URL:https://www.ev-schule.de/termin/klasse-4-ausgabe-der-bildungsempfehlungen/
CATEGORIES:Grundschule
END:VEVENT
END:VCALENDAR