BEGIN:VCALENDAR
VERSION:2.0
PRODID:-//Evangelischer Schulverein Görlitz e.V. - ECPv6.15.20//NONSGML v1.0//EN
CALSCALE:GREGORIAN
METHOD:PUBLISH
X-WR-CALNAME:Evangelischer Schulverein Görlitz e.V.
X-ORIGINAL-URL:https://www.ev-schule.de
X-WR-CALDESC:Veranstaltungen für Evangelischer Schulverein Görlitz e.V.
REFRESH-INTERVAL;VALUE=DURATION:PT1H
X-Robots-Tag:noindex
X-PUBLISHED-TTL:PT1H
BEGIN:VTIMEZONE
TZID:Europe/Paris
BEGIN:DAYLIGHT
TZOFFSETFROM:+0100
TZOFFSETTO:+0200
TZNAME:CEST
DTSTART:20240331T010000
END:DAYLIGHT
BEGIN:STANDARD
TZOFFSETFROM:+0200
TZOFFSETTO:+0100
TZNAME:CET
DTSTART:20241027T010000
END:STANDARD
BEGIN:DAYLIGHT
TZOFFSETFROM:+0100
TZOFFSETTO:+0200
TZNAME:CEST
DTSTART:20250330T010000
END:DAYLIGHT
BEGIN:STANDARD
TZOFFSETFROM:+0200
TZOFFSETTO:+0100
TZNAME:CET
DTSTART:20251026T010000
END:STANDARD
BEGIN:DAYLIGHT
TZOFFSETFROM:+0100
TZOFFSETTO:+0200
TZNAME:CEST
DTSTART:20260329T010000
END:DAYLIGHT
BEGIN:STANDARD
TZOFFSETFROM:+0200
TZOFFSETTO:+0100
TZNAME:CET
DTSTART:20261025T010000
END:STANDARD
BEGIN:DAYLIGHT
TZOFFSETFROM:+0100
TZOFFSETTO:+0200
TZNAME:CEST
DTSTART:20270328T010000
END:DAYLIGHT
BEGIN:STANDARD
TZOFFSETFROM:+0200
TZOFFSETTO:+0100
TZNAME:CET
DTSTART:20271031T010000
END:STANDARD
END:VTIMEZONE
BEGIN:VEVENT
DTSTART;VALUE=DATE:20251222
DTEND;VALUE=DATE:20260103
DTSTAMP:20260422T122307
CREATED:20250127T123207Z
LAST-MODIFIED:20250127T123553Z
UID:14106-1766361600-1767398399@www.ev-schule.de
SUMMARY:Weihnachtsferien
DESCRIPTION:Bild von Jeff Jacobs auf Pixabay.com
URL:https://www.ev-schule.de/termin/weihnachtsferien/
ATTACH;FMTTYPE=image/jpeg:https://www.ev-schule.de/wp-content/uploads/2025/01/jesus-4671798_1280.jpg
END:VEVENT
BEGIN:VEVENT
DTSTART;TZID=Europe/Paris:20260126T080000
DTEND;TZID=Europe/Paris:20260126T170000
DTSTAMP:20260422T122307
CREATED:20250930T055418Z
LAST-MODIFIED:20250930T055418Z
UID:15351-1769414400-1769446800@www.ev-schule.de
SUMMARY:Projekttag "Knigge"
DESCRIPTION:7:45-12:00 Uhr\, kein Förderunterricht\, Mittagsbetreuung und GTA finden statt
URL:https://www.ev-schule.de/termin/projekttag-knigge/
CATEGORIES:Grundschule
END:VEVENT
END:VCALENDAR