BEGIN:VCALENDAR
VERSION:2.0
PRODID:-//Evangelischer Schulverein Görlitz e.V. - ECPv6.15.20//NONSGML v1.0//EN
CALSCALE:GREGORIAN
METHOD:PUBLISH
X-ORIGINAL-URL:https://www.ev-schule.de
X-WR-CALDESC:Veranstaltungen für Evangelischer Schulverein Görlitz e.V.
REFRESH-INTERVAL;VALUE=DURATION:PT1H
X-Robots-Tag:noindex
X-PUBLISHED-TTL:PT1H
BEGIN:VTIMEZONE
TZID:Europe/Paris
BEGIN:DAYLIGHT
TZOFFSETFROM:+0100
TZOFFSETTO:+0200
TZNAME:CEST
DTSTART:20240331T010000
END:DAYLIGHT
BEGIN:STANDARD
TZOFFSETFROM:+0200
TZOFFSETTO:+0100
TZNAME:CET
DTSTART:20241027T010000
END:STANDARD
BEGIN:DAYLIGHT
TZOFFSETFROM:+0100
TZOFFSETTO:+0200
TZNAME:CEST
DTSTART:20250330T010000
END:DAYLIGHT
BEGIN:STANDARD
TZOFFSETFROM:+0200
TZOFFSETTO:+0100
TZNAME:CET
DTSTART:20251026T010000
END:STANDARD
BEGIN:DAYLIGHT
TZOFFSETFROM:+0100
TZOFFSETTO:+0200
TZNAME:CEST
DTSTART:20260329T010000
END:DAYLIGHT
BEGIN:STANDARD
TZOFFSETFROM:+0200
TZOFFSETTO:+0100
TZNAME:CET
DTSTART:20261025T010000
END:STANDARD
END:VTIMEZONE
BEGIN:VEVENT
DTSTART;TZID=Europe/Paris:20250602T073000
DTEND;TZID=Europe/Paris:20250602T120000
DTSTAMP:20260422T225701
CREATED:20250311T094558Z
LAST-MODIFIED:20250311T094558Z
UID:14354-1748849400-1748865600@www.ev-schule.de
SUMMARY:Projekttag Inklusion
DESCRIPTION:
URL:https://www.ev-schule.de/termin/projekttag-inklusion/
CATEGORIES:Grundschule,Projekttag Grundschule
END:VEVENT
BEGIN:VEVENT
DTSTART;TZID=Europe/Paris:20250610T153000
DTEND;TZID=Europe/Paris:20250610T170000
DTSTAMP:20260422T225701
CREATED:20250311T094056Z
LAST-MODIFIED:20250311T094145Z
UID:14348-1749569400-1749574800@www.ev-schule.de
SUMMARY:2. Kennenlerntreffen der zukünftigen Erstklässler
DESCRIPTION:Die Kinder erleben eine weitere fröhliche Runde mit ihren zukünftigen KlassenkameradInnen. \nWICHTIG: Für die Eltern findet parallel der „0. Elternabend“ statt.
URL:https://www.ev-schule.de/termin/2-kennenlerntreffen-der-zukuenftigen-erstklaessler/
CATEGORIES:Elternabend Grundschule,Grundschule
END:VEVENT
BEGIN:VEVENT
DTSTART;TZID=Europe/Paris:20250611T190000
DTEND;TZID=Europe/Paris:20250611T210000
DTSTAMP:20260422T225701
CREATED:20250122T103413Z
LAST-MODIFIED:20250122T103413Z
UID:14076-1749668400-1749675600@www.ev-schule.de
SUMMARY:Vorstandssitzung (nicht öffentlich)
DESCRIPTION:
URL:https://www.ev-schule.de/termin/vorstandssitzung-nicht-oeffentlich-5/
LOCATION:Dietrich-Heise-Schule\, Otto-Müller-Straße 1\, Görlitz\, Sachsen\, 02826\, Germany
ATTACH;FMTTYPE=image/jpeg:https://www.ev-schule.de/wp-content/uploads/2022/04/Logo-SchulVerein-neu2021.jpg
END:VEVENT
BEGIN:VEVENT
DTSTART;TZID=Europe/Paris:20250612T073000
DTEND;TZID=Europe/Paris:20250612T120000
DTSTAMP:20260422T225701
CREATED:20250311T094637Z
LAST-MODIFIED:20250311T094637Z
UID:14356-1749713400-1749729600@www.ev-schule.de
SUMMARY:Sportfest der Grundschule
DESCRIPTION:
URL:https://www.ev-schule.de/termin/sportfest-der-grundschule/
CATEGORIES:Grundschule,Projekttag Grundschule
END:VEVENT
BEGIN:VEVENT
DTSTART;VALUE=DATE:20250623
DTEND;VALUE=DATE:20250627
DTSTAMP:20260422T225701
CREATED:20250311T094931Z
LAST-MODIFIED:20250311T094931Z
UID:14360-1750636800-1750982399@www.ev-schule.de
SUMMARY:Klassenfahrt der Klassen 3 + 4
DESCRIPTION:
URL:https://www.ev-schule.de/termin/klassenfahrt-der-klassen-3-4/
CATEGORIES:Grundschule
END:VEVENT
BEGIN:VEVENT
DTSTART;VALUE=DATE:20250630
DTEND;VALUE=DATE:20250810
DTSTAMP:20260422T225701
CREATED:20250122T104921Z
LAST-MODIFIED:20250317T091800Z
UID:14081-1751241600-1754783999@www.ev-schule.de
SUMMARY:Sommerferien 2025
DESCRIPTION:Bild von Kenya Aguirre auf Pixabay.com
URL:https://www.ev-schule.de/termin/sommerferien-2025/
ATTACH;FMTTYPE=image/jpeg:https://www.ev-schule.de/wp-content/uploads/2025/01/summer-5341326_1280.jpg
END:VEVENT
END:VCALENDAR