BEGIN:VCALENDAR
VERSION:2.0
PRODID:-//Evangelischer Schulverein Görlitz e.V. - ECPv6.15.20//NONSGML v1.0//EN
CALSCALE:GREGORIAN
METHOD:PUBLISH
X-ORIGINAL-URL:https://www.ev-schule.de
X-WR-CALDESC:Veranstaltungen für Evangelischer Schulverein Görlitz e.V.
REFRESH-INTERVAL;VALUE=DURATION:PT1H
X-Robots-Tag:noindex
X-PUBLISHED-TTL:PT1H
BEGIN:VTIMEZONE
TZID:Europe/Paris
BEGIN:DAYLIGHT
TZOFFSETFROM:+0100
TZOFFSETTO:+0200
TZNAME:CEST
DTSTART:20240331T010000
END:DAYLIGHT
BEGIN:STANDARD
TZOFFSETFROM:+0200
TZOFFSETTO:+0100
TZNAME:CET
DTSTART:20241027T010000
END:STANDARD
BEGIN:DAYLIGHT
TZOFFSETFROM:+0100
TZOFFSETTO:+0200
TZNAME:CEST
DTSTART:20250330T010000
END:DAYLIGHT
BEGIN:STANDARD
TZOFFSETFROM:+0200
TZOFFSETTO:+0100
TZNAME:CET
DTSTART:20251026T010000
END:STANDARD
BEGIN:DAYLIGHT
TZOFFSETFROM:+0100
TZOFFSETTO:+0200
TZNAME:CEST
DTSTART:20260329T010000
END:DAYLIGHT
BEGIN:STANDARD
TZOFFSETFROM:+0200
TZOFFSETTO:+0100
TZNAME:CET
DTSTART:20261025T010000
END:STANDARD
END:VTIMEZONE
BEGIN:VEVENT
DTSTART;VALUE=DATE:20250401
DTEND;VALUE=DATE:20250402
DTSTAMP:20260423T020754
CREATED:20250310T074024Z
LAST-MODIFIED:20250310T074024Z
UID:14323-1743465600-1743551999@www.ev-schule.de
SUMMARY:Delfinklasse: Deutsch-polnischer Projekttag "Ostern" mit der Partnerklasse in Zgorzelec
DESCRIPTION:
URL:https://www.ev-schule.de/termin/delfinklasse-deutsch-polnischer-projekttag-ostern-mit-der-partnerklasse-in-zgorzelec/
END:VEVENT
BEGIN:VEVENT
DTSTART;VALUE=DATE:20250403
DTEND;VALUE=DATE:20250404
DTSTAMP:20260423T020754
CREATED:20250310T074044Z
LAST-MODIFIED:20250310T074044Z
UID:14325-1743638400-1743724799@www.ev-schule.de
SUMMARY:Klasse 3: Deutsch-polnischer Projekttag "Ostern" mit der Partnerklasse in Zgorzelec
DESCRIPTION:
URL:https://www.ev-schule.de/termin/klasse-3-deutsch-polnischer-projekttag-ostern-mit-der-partnerklasse-in-zgorzelec/
END:VEVENT
BEGIN:VEVENT
DTSTART;VALUE=DATE:20250404
DTEND;VALUE=DATE:20250405
DTSTAMP:20260423T020754
CREATED:20250310T074125Z
LAST-MODIFIED:20250310T074125Z
UID:14327-1743724800-1743811199@www.ev-schule.de
SUMMARY:Regenbogenklasse: Deutsch-polnischer Projekttag "Ostern" mit der Partnerklasse in Zgorzelec
DESCRIPTION:
URL:https://www.ev-schule.de/termin/regenbogenklasse-deutsch-polnischer-projekttag-ostern-mit-der-partnerklasse-in-zgorzelec/
END:VEVENT
BEGIN:VEVENT
DTSTART;TZID=Europe/Paris:20250409T190000
DTEND;TZID=Europe/Paris:20250409T210000
DTSTAMP:20260423T020754
CREATED:20250122T103126Z
LAST-MODIFIED:20250122T103126Z
UID:14072-1744225200-1744232400@www.ev-schule.de
SUMMARY:Vorstandssitzung (nicht öffentlich)
DESCRIPTION:
URL:https://www.ev-schule.de/termin/vorstandssitzung-nicht-oeffentlich-3/
LOCATION:Dietrich-Heise-Schule\, Otto-Müller-Straße 1\, Görlitz\, Sachsen\, 02826\, Germany
ATTACH;FMTTYPE=image/jpeg:https://www.ev-schule.de/wp-content/uploads/2022/04/Logo-SchulVerein-neu2021.jpg
END:VEVENT
BEGIN:VEVENT
DTSTART;TZID=Europe/Paris:20250411T074500
DTEND;TZID=Europe/Paris:20250411T120000
DTSTAMP:20260423T020754
CREATED:20250310T074220Z
LAST-MODIFIED:20250311T093504Z
UID:14329-1744357500-1744372800@www.ev-schule.de
SUMMARY:Musikalischer Projekttag "Banda Communale" an der Grundschule
DESCRIPTION:
URL:https://www.ev-schule.de/termin/musikalischer-projekttag-banda-communale-an-der-grundschule/
CATEGORIES:Projekttag Grundschule
END:VEVENT
BEGIN:VEVENT
DTSTART;TZID=Europe/Paris:20250417T073000
DTEND;TZID=Europe/Paris:20250417T120000
DTSTAMP:20260423T020754
CREATED:20250310T074454Z
LAST-MODIFIED:20250310T074531Z
UID:14331-1744875000-1744891200@www.ev-schule.de
SUMMARY:Osterprojekt klassenintern
DESCRIPTION:Am Gründonnerstag dreht sich in allen Klassen alles rund um das biblische Ostergeschehen. Der Schultag endet für alle 12 Uhr. Förderunterricht und AGs fallen aus\, Mittagsbetreuung bis 14 Uhr findet jedoch wie gewohnt statt. \nUnd dann heißt es: Frohe Osterferien!
URL:https://www.ev-schule.de/termin/osterprojekt-klassenintern/
END:VEVENT
BEGIN:VEVENT
DTSTART;VALUE=DATE:20250418
DTEND;VALUE=DATE:20250426
DTSTAMP:20260423T020754
CREATED:20250127T120817Z
LAST-MODIFIED:20250127T121417Z
UID:14096-1744934400-1745625599@www.ev-schule.de
SUMMARY:Osterferien
DESCRIPTION:Bild von Congerdesign auf Pixabay.com \n 
URL:https://www.ev-schule.de/termin/osterferien/
ATTACH;FMTTYPE=image/jpeg:https://www.ev-schule.de/wp-content/uploads/2025/01/easter-7003335_1280.jpg
END:VEVENT
BEGIN:VEVENT
DTSTART;TZID=Europe/Paris:20250428T080000
DTEND;TZID=Europe/Paris:20250428T170000
DTSTAMP:20260423T020754
CREATED:20250428T055921Z
LAST-MODIFIED:20250428T055933Z
UID:14614-1745827200-1745859600@www.ev-schule.de
SUMMARY:Tag der offenen Tür an unserer Grundschule
DESCRIPTION:Viele spannende Angebote warten auf zukünftige Schulkinder\, ihre Eltern und alle interessierten Besucher! Von 10 bis 13 Uhr sind Schulhaus und Außengelände geöffnet. Spiel- und Bastelstände\, Schulhausführungen\, ein Vorlesezelt und viele Überraschungen laden zum Entdecken ein. Ab 14 Uhr feiern wir weiter im Jugendhaus Wartburg mit Sponsorenrallye und einer gemeinsamen Abschlussveranstaltung\, auf der ihr unsere Musical AG erleben könnt. Wir freuen uns auf euch!
URL:https://www.ev-schule.de/termin/tag-der-offenen-tuer-an-unserer-grundschule/
CATEGORIES:Grundschule
ATTACH;FMTTYPE=image/png:https://www.ev-schule.de/wp-content/uploads/2025/04/TdoT2025_fuer_Medien_Plakat.png
END:VEVENT
BEGIN:VEVENT
DTSTART;VALUE=DATE:20250429
DTEND;VALUE=DATE:20250501
DTSTAMP:20260423T020754
CREATED:20250311T093422Z
LAST-MODIFIED:20250311T093422Z
UID:14340-1745884800-1746057599@www.ev-schule.de
SUMMARY:Praktische Fahrradausbildung Klasse 4
DESCRIPTION:
URL:https://www.ev-schule.de/termin/praktische-fahrradausbildung-klasse-4/
CATEGORIES:Grundschule
END:VEVENT
END:VCALENDAR