BEGIN:VCALENDAR
VERSION:2.0
PRODID:-//Evangelischer Schulverein Görlitz e.V. - ECPv6.15.20//NONSGML v1.0//EN
CALSCALE:GREGORIAN
METHOD:PUBLISH
X-WR-CALNAME:Evangelischer Schulverein Görlitz e.V.
X-ORIGINAL-URL:https://www.ev-schule.de
X-WR-CALDESC:Veranstaltungen für Evangelischer Schulverein Görlitz e.V.
REFRESH-INTERVAL;VALUE=DURATION:PT1H
X-Robots-Tag:noindex
X-PUBLISHED-TTL:PT1H
BEGIN:VTIMEZONE
TZID:Europe/Paris
BEGIN:DAYLIGHT
TZOFFSETFROM:+0100
TZOFFSETTO:+0200
TZNAME:CEST
DTSTART:20250330T010000
END:DAYLIGHT
BEGIN:STANDARD
TZOFFSETFROM:+0200
TZOFFSETTO:+0100
TZNAME:CET
DTSTART:20251026T010000
END:STANDARD
BEGIN:DAYLIGHT
TZOFFSETFROM:+0100
TZOFFSETTO:+0200
TZNAME:CEST
DTSTART:20260329T010000
END:DAYLIGHT
BEGIN:STANDARD
TZOFFSETFROM:+0200
TZOFFSETTO:+0100
TZNAME:CET
DTSTART:20261025T010000
END:STANDARD
BEGIN:DAYLIGHT
TZOFFSETFROM:+0100
TZOFFSETTO:+0200
TZNAME:CEST
DTSTART:20270328T010000
END:DAYLIGHT
BEGIN:STANDARD
TZOFFSETFROM:+0200
TZOFFSETTO:+0100
TZNAME:CET
DTSTART:20271031T010000
END:STANDARD
END:VTIMEZONE
BEGIN:VEVENT
DTSTART;VALUE=DATE:20260320
DTEND;VALUE=DATE:20260321
DTSTAMP:20260422T104710
CREATED:20260317T130211Z
LAST-MODIFIED:20260317T130227Z
UID:16285-1773964800-1774051199@www.ev-schule.de
SUMMARY:"Hoffnungsträger Ost" zu Besuch an der Grundschule
DESCRIPTION:
URL:https://www.ev-schule.de/termin/hoffnungstraeger-ost-zu-besuch-an-der-grundschule/
CATEGORIES:Grundschule
END:VEVENT
END:VCALENDAR