BEGIN:VCALENDAR
VERSION:2.0
PRODID:-//Evangelischer Schulverein Görlitz e.V. - ECPv6.15.20//NONSGML v1.0//EN
CALSCALE:GREGORIAN
METHOD:PUBLISH
X-ORIGINAL-URL:https://www.ev-schule.de
X-WR-CALDESC:Veranstaltungen für Evangelischer Schulverein Görlitz e.V.
REFRESH-INTERVAL;VALUE=DURATION:PT1H
X-Robots-Tag:noindex
X-PUBLISHED-TTL:PT1H
BEGIN:VTIMEZONE
TZID:Europe/Paris
BEGIN:DAYLIGHT
TZOFFSETFROM:+0100
TZOFFSETTO:+0200
TZNAME:CEST
DTSTART:20240331T010000
END:DAYLIGHT
BEGIN:STANDARD
TZOFFSETFROM:+0200
TZOFFSETTO:+0100
TZNAME:CET
DTSTART:20241027T010000
END:STANDARD
BEGIN:DAYLIGHT
TZOFFSETFROM:+0100
TZOFFSETTO:+0200
TZNAME:CEST
DTSTART:20250330T010000
END:DAYLIGHT
BEGIN:STANDARD
TZOFFSETFROM:+0200
TZOFFSETTO:+0100
TZNAME:CET
DTSTART:20251026T010000
END:STANDARD
BEGIN:DAYLIGHT
TZOFFSETFROM:+0100
TZOFFSETTO:+0200
TZNAME:CEST
DTSTART:20260329T010000
END:DAYLIGHT
BEGIN:STANDARD
TZOFFSETFROM:+0200
TZOFFSETTO:+0100
TZNAME:CET
DTSTART:20261025T010000
END:STANDARD
END:VTIMEZONE
BEGIN:VEVENT
DTSTART;TZID=Europe/Paris:20250905T073000
DTEND;TZID=Europe/Paris:20250905T120000
DTSTAMP:20260422T195829
CREATED:20250814T113311Z
LAST-MODIFIED:20250814T113311Z
UID:15017-1757057400-1757073600@www.ev-schule.de
SUMMARY:Projekttag Erntedank
DESCRIPTION:7:45-12:00 Uhr\, kein Förderunterricht\, GTA findet normal statt \nBitte Mittagessen abmelden\, wir kochen gemeinsam!
URL:https://www.ev-schule.de/termin/projekttag-erntedank/
END:VEVENT
END:VCALENDAR