BEGIN:VCALENDAR
VERSION:2.0
PRODID:-//Evangelischer Schulverein Görlitz e.V. - ECPv6.15.20//NONSGML v1.0//EN
CALSCALE:GREGORIAN
METHOD:PUBLISH
X-WR-CALNAME:Evangelischer Schulverein Görlitz e.V.
X-ORIGINAL-URL:https://www.ev-schule.de
X-WR-CALDESC:Veranstaltungen für Evangelischer Schulverein Görlitz e.V.
REFRESH-INTERVAL;VALUE=DURATION:PT1H
X-Robots-Tag:noindex
X-PUBLISHED-TTL:PT1H
BEGIN:VTIMEZONE
TZID:Europe/Paris
BEGIN:DAYLIGHT
TZOFFSETFROM:+0100
TZOFFSETTO:+0200
TZNAME:CEST
DTSTART:20240331T010000
END:DAYLIGHT
BEGIN:STANDARD
TZOFFSETFROM:+0200
TZOFFSETTO:+0100
TZNAME:CET
DTSTART:20241027T010000
END:STANDARD
BEGIN:DAYLIGHT
TZOFFSETFROM:+0100
TZOFFSETTO:+0200
TZNAME:CEST
DTSTART:20250330T010000
END:DAYLIGHT
BEGIN:STANDARD
TZOFFSETFROM:+0200
TZOFFSETTO:+0100
TZNAME:CET
DTSTART:20251026T010000
END:STANDARD
BEGIN:DAYLIGHT
TZOFFSETFROM:+0100
TZOFFSETTO:+0200
TZNAME:CEST
DTSTART:20260329T010000
END:DAYLIGHT
BEGIN:STANDARD
TZOFFSETFROM:+0200
TZOFFSETTO:+0100
TZNAME:CET
DTSTART:20261025T010000
END:STANDARD
END:VTIMEZONE
BEGIN:VEVENT
DTSTART;VALUE=DATE:20250526
DTEND;VALUE=DATE:20250529
DTSTAMP:20260423T002601
CREATED:20250311T094742Z
LAST-MODIFIED:20250311T094742Z
UID:14358-1748217600-1748476799@www.ev-schule.de
SUMMARY:Klassenfahrt der Delfinklasse und Regenbogenklasse
DESCRIPTION:
URL:https://www.ev-schule.de/termin/klassenfahrt-der-delfinklasse-und-regenbogenklasse/
CATEGORIES:Grundschule
END:VEVENT
END:VCALENDAR