BEGIN:VCALENDAR
VERSION:2.0
PRODID:-//Evangelischer Schulverein Görlitz e.V. - ECPv6.15.20//NONSGML v1.0//EN
CALSCALE:GREGORIAN
METHOD:PUBLISH
X-ORIGINAL-URL:https://www.ev-schule.de
X-WR-CALDESC:Veranstaltungen für Evangelischer Schulverein Görlitz e.V.
REFRESH-INTERVAL;VALUE=DURATION:PT1H
X-Robots-Tag:noindex
X-PUBLISHED-TTL:PT1H
BEGIN:VTIMEZONE
TZID:Europe/Paris
BEGIN:DAYLIGHT
TZOFFSETFROM:+0100
TZOFFSETTO:+0200
TZNAME:CEST
DTSTART:20240331T010000
END:DAYLIGHT
BEGIN:STANDARD
TZOFFSETFROM:+0200
TZOFFSETTO:+0100
TZNAME:CET
DTSTART:20241027T010000
END:STANDARD
BEGIN:DAYLIGHT
TZOFFSETFROM:+0100
TZOFFSETTO:+0200
TZNAME:CEST
DTSTART:20250330T010000
END:DAYLIGHT
BEGIN:STANDARD
TZOFFSETFROM:+0200
TZOFFSETTO:+0100
TZNAME:CET
DTSTART:20251026T010000
END:STANDARD
BEGIN:DAYLIGHT
TZOFFSETFROM:+0100
TZOFFSETTO:+0200
TZNAME:CEST
DTSTART:20260329T010000
END:DAYLIGHT
BEGIN:STANDARD
TZOFFSETFROM:+0200
TZOFFSETTO:+0100
TZNAME:CET
DTSTART:20261025T010000
END:STANDARD
END:VTIMEZONE
BEGIN:VEVENT
DTSTART;TZID=Europe/Paris:20250513T080000
DTEND;TZID=Europe/Paris:20250513T170000
DTSTAMP:20260423T020706
CREATED:20250311T093713Z
LAST-MODIFIED:20250311T093713Z
UID:14344-1747123200-1747155600@www.ev-schule.de
SUMMARY:Besuch der Verkehrswacht an der Grundschule
DESCRIPTION:
URL:https://www.ev-schule.de/termin/besuch-der-verkehrswacht-an-der-grundschule/
CATEGORIES:Grundschule,Projekttag Grundschule
END:VEVENT
BEGIN:VEVENT
DTSTART;TZID=Europe/Paris:20250513T153000
DTEND;TZID=Europe/Paris:20250513T170000
DTSTAMP:20260423T020706
CREATED:20250311T093920Z
LAST-MODIFIED:20250311T094245Z
UID:14346-1747150200-1747155600@www.ev-schule.de
SUMMARY:1. Kennenlerntreffen der zukünftigen Erstklässler
DESCRIPTION:Die Kinder erleben eine fröhliche Runde mit den Klassenteams und ihren zukünftigen KlassenkameradInnen. \nFür die Eltern stehen in einem separaten Raum unsere Elternvertreter für die Austauschrunde „Eltern fragen Eltern“ zur Verfügung.
URL:https://www.ev-schule.de/termin/1-kennenlerntreffen-der-zukuenftigen-erstklaessler/
CATEGORIES:Grundschule
END:VEVENT
END:VCALENDAR