BEGIN:VCALENDAR
VERSION:2.0
PRODID:-//Evangelischer Schulverein Görlitz e.V. - ECPv6.15.20//NONSGML v1.0//EN
CALSCALE:GREGORIAN
METHOD:PUBLISH
X-ORIGINAL-URL:https://www.ev-schule.de
X-WR-CALDESC:Veranstaltungen für Evangelischer Schulverein Görlitz e.V.
REFRESH-INTERVAL;VALUE=DURATION:PT1H
X-Robots-Tag:noindex
X-PUBLISHED-TTL:PT1H
BEGIN:VTIMEZONE
TZID:Europe/Paris
BEGIN:DAYLIGHT
TZOFFSETFROM:+0100
TZOFFSETTO:+0200
TZNAME:CEST
DTSTART:20240331T010000
END:DAYLIGHT
BEGIN:STANDARD
TZOFFSETFROM:+0200
TZOFFSETTO:+0100
TZNAME:CET
DTSTART:20241027T010000
END:STANDARD
BEGIN:DAYLIGHT
TZOFFSETFROM:+0100
TZOFFSETTO:+0200
TZNAME:CEST
DTSTART:20250330T010000
END:DAYLIGHT
BEGIN:STANDARD
TZOFFSETFROM:+0200
TZOFFSETTO:+0100
TZNAME:CET
DTSTART:20251026T010000
END:STANDARD
BEGIN:DAYLIGHT
TZOFFSETFROM:+0100
TZOFFSETTO:+0200
TZNAME:CEST
DTSTART:20260329T010000
END:DAYLIGHT
BEGIN:STANDARD
TZOFFSETFROM:+0200
TZOFFSETTO:+0100
TZNAME:CET
DTSTART:20261025T010000
END:STANDARD
END:VTIMEZONE
BEGIN:VEVENT
DTSTART;TZID=Europe/Paris:20250214T073000
DTEND;TZID=Europe/Paris:20250214T110000
DTSTAMP:20260423T065844
CREATED:20250122T092240Z
LAST-MODIFIED:20250122T095037Z
UID:14046-1739518200-1739530800@www.ev-schule.de
SUMMARY:Klassenleitertag mit Ausgabe der Halbjahresinformationen (und Bildungsempfehlungen in Klasse 4)
DESCRIPTION:Schulschluss: 11 Uhr\nMittagsbetreuung nach Absprache \nBild von Alicija auf Pixabay \n 
URL:https://www.ev-schule.de/termin/klassenleitertag-mit-ausgabe-der-halbjahresinformationen-und-bildungsempfehlungen-in-klasse-4/
LOCATION:Dietrich-Heise-Schule\, Otto-Müller-Straße 1\, Görlitz\, Sachsen\, 02826\, Germany
CATEGORIES:Grundschule
ATTACH;FMTTYPE=image/jpeg:https://www.ev-schule.de/wp-content/uploads/2025/01/winter-9279549_1280.jpg
END:VEVENT
END:VCALENDAR