BEGIN:VCALENDAR
VERSION:2.0
PRODID:-//Evangelischer Schulverein Görlitz e.V. - ECPv6.15.20//NONSGML v1.0//EN
CALSCALE:GREGORIAN
METHOD:PUBLISH
X-WR-CALNAME:Evangelischer Schulverein Görlitz e.V.
X-ORIGINAL-URL:https://www.ev-schule.de
X-WR-CALDESC:Veranstaltungen für Evangelischer Schulverein Görlitz e.V.
REFRESH-INTERVAL;VALUE=DURATION:PT1H
X-Robots-Tag:noindex
X-PUBLISHED-TTL:PT1H
BEGIN:VTIMEZONE
TZID:Europe/Paris
BEGIN:DAYLIGHT
TZOFFSETFROM:+0100
TZOFFSETTO:+0200
TZNAME:CEST
DTSTART:20240331T010000
END:DAYLIGHT
BEGIN:STANDARD
TZOFFSETFROM:+0200
TZOFFSETTO:+0100
TZNAME:CET
DTSTART:20241027T010000
END:STANDARD
BEGIN:DAYLIGHT
TZOFFSETFROM:+0100
TZOFFSETTO:+0200
TZNAME:CEST
DTSTART:20250330T010000
END:DAYLIGHT
BEGIN:STANDARD
TZOFFSETFROM:+0200
TZOFFSETTO:+0100
TZNAME:CET
DTSTART:20251026T010000
END:STANDARD
BEGIN:DAYLIGHT
TZOFFSETFROM:+0100
TZOFFSETTO:+0200
TZNAME:CEST
DTSTART:20260329T010000
END:DAYLIGHT
BEGIN:STANDARD
TZOFFSETFROM:+0200
TZOFFSETTO:+0100
TZNAME:CET
DTSTART:20261025T010000
END:STANDARD
END:VTIMEZONE
BEGIN:VEVENT
DTSTART;TZID=Europe/Paris:20250202T143000
DTEND;TZID=Europe/Paris:20250202T160000
DTSTAMP:20260423T065535
CREATED:20250121T102057Z
LAST-MODIFIED:20250121T102057Z
UID:14006-1738506600-1738512000@www.ev-schule.de
SUMMARY:Oh-TÖNE - Die Musical-Werkstatt in der FEO
DESCRIPTION:Beim großen Weihnachtssingen im Rudolf-Harbig-Stadion standen sie auf der Bühne. Sie begleiteten die feierliche Eröffnungsparty zum Start ins Kulturhauptstadtjahres 2025 in Chemnitz. Der Musical-Chor Oh-TÖNE aus Dresden ist bei den größten Events in Sachsen dabei. \nDarum freuen wir uns ganz besonders darüber Gastgeber zu sein\, wenn die Oh-TÖNE ihr Probenwochenende in Görlitz mit einem Abschlusskonzert an der Freien Evangelischen Oberschule Görlitz (FEO) beenden. Unter den Sängerinnen und Sängern ist auch eine Görlitzerin\, die inzwischen in Dresden lebt und arbeitet. \nWir laden Sie herzlich ein\, diese Chance zu nutzen und den einzigartigen Musical-Chor hautnah mitzuerleben. Am Sonntag 02.02.2025 um 14.30 Uhr in der FEO\, Jakob-Böhme-Straße 1 in Görlitz. Der Eintritt ist frei\, um Spenden wird gebeten. \n 
URL:https://www.ev-schule.de/termin/oh-toene-die-musical-werkstatt-in-der-feo/
LOCATION:Freie Evangelische Oberschule\, Jakob-Böhme-Straße 1\, Görlitz\, Sachsen\, 02826\, Germany
CATEGORIES:FEO,Öffentliche Veranstaltungen FEO
ATTACH;FMTTYPE=image/jpeg:https://www.ev-schule.de/wp-content/uploads/2025/01/Oh-TOeNE_Konzert-FEO.jpeg
END:VEVENT
END:VCALENDAR