BEGIN:VCALENDAR
VERSION:2.0
PRODID:-//Evangelischer Schulverein Görlitz e.V. - ECPv6.15.20//NONSGML v1.0//EN
CALSCALE:GREGORIAN
METHOD:PUBLISH
X-WR-CALNAME:Evangelischer Schulverein Görlitz e.V.
X-ORIGINAL-URL:https://www.ev-schule.de
X-WR-CALDESC:Veranstaltungen für Evangelischer Schulverein Görlitz e.V.
REFRESH-INTERVAL;VALUE=DURATION:PT1H
X-Robots-Tag:noindex
X-PUBLISHED-TTL:PT1H
BEGIN:VTIMEZONE
TZID:Europe/Paris
BEGIN:DAYLIGHT
TZOFFSETFROM:+0100
TZOFFSETTO:+0200
TZNAME:CEST
DTSTART:20230326T010000
END:DAYLIGHT
BEGIN:STANDARD
TZOFFSETFROM:+0200
TZOFFSETTO:+0100
TZNAME:CET
DTSTART:20231029T010000
END:STANDARD
BEGIN:DAYLIGHT
TZOFFSETFROM:+0100
TZOFFSETTO:+0200
TZNAME:CEST
DTSTART:20240331T010000
END:DAYLIGHT
BEGIN:STANDARD
TZOFFSETFROM:+0200
TZOFFSETTO:+0100
TZNAME:CET
DTSTART:20241027T010000
END:STANDARD
BEGIN:DAYLIGHT
TZOFFSETFROM:+0100
TZOFFSETTO:+0200
TZNAME:CEST
DTSTART:20250330T010000
END:DAYLIGHT
BEGIN:STANDARD
TZOFFSETFROM:+0200
TZOFFSETTO:+0100
TZNAME:CET
DTSTART:20251026T010000
END:STANDARD
END:VTIMEZONE
BEGIN:VEVENT
DTSTART;VALUE=DATE:20241220
DTEND;VALUE=DATE:20241221
DTSTAMP:20260423T095754
CREATED:20241213T090053Z
LAST-MODIFIED:20241213T092621Z
UID:13665-1734652800-1734739199@www.ev-schule.de
SUMMARY:Klassenleitertag
DESCRIPTION:Adventsliedersingen und letzter Schultag vor den Weihnachtsferien. Schulschluss 11 Uhr\, Mittagsbetreuung findet statt
URL:https://www.ev-schule.de/termin/klassenleitertag/
LOCATION:Dietrich-Heise-Schule\, Otto-Müller-Straße 1\, Görlitz\, Sachsen\, 02826\, Germany
CATEGORIES:Grundschule
ATTACH;FMTTYPE=image/jpeg:https://www.ev-schule.de/wp-content/uploads/2024/12/319757790_1389480808125755_4801869408839271105_n.jpg
END:VEVENT
END:VCALENDAR